BEGIN:VCALENDAR
VERSION:2.0
PRODID:-//My Calendar//http://www.joedolson.com//v3.2.17//EN
METHOD:PUBLISH
CALSCALE:GREGORIAN
X-WR-CALNAME:Amicale Laïque de Pont l&#039;Abbé (29)
X-PUBLISHED-TTL:PT24H
REFRESH-INTERVAL;VALUE=DURATION:PT24H
X-WR-CALDESC:Évènements de Amicale Laïque de Pont l&#039;Abbé (29)
BEGIN:VEVENT
UID:5-2
LOCATION:Patronnage Laïque Place Benjamin Delessert  Pont-l'Abbé  29120
SUMMARY:Voeux de la chorale
DTSTAMP:20210207T160000
ORGANIZER;CN=gouy_wp:MAILTO:gladys.gouyen@gmail.com
DTSTART;TZID=Europe/Paris:20210207T160000
DTEND;TZID=Europe/Paris:20210207T180000
URL;VALUE=URI:http://alpa29/my-calendar/
DESCRIPTION:Les voix de la rivière, le groupe de la chorale composé d'une vingtaine de choristes et de sa cheffe de chœur Jackie, propose un concert pour fêter la nouvelle année. 
CATEGORIES:Activités adultes, Toutes catégories
END:VEVENT
BEGIN:VEVENT
UID:6-1
LOCATION:Salle omnisports de Kerarthur Rue Laennec  Pont-l'Abbé  29120
SUMMARY:Championnats de judo du Finistère
DTSTAMP:20210221T000000
ORGANIZER;CN=gouy_wp:MAILTO:gladys.gouyen@gmail.com
DTSTART;TZID=Europe/Paris:20210221T000000
DTEND;TZID=Europe/Paris:20210222T000000
URL;VALUE=URI:http://alpa29/my-calendar/
DESCRIPTION:Les clubs de judo seront présents pour les championnats du Finistère. A 10h commencera la compétition enfant, puis l'après-midi aura lieu la compétition adulte. 
CATEGORIES:Activités adolescents
X-FUNAMBOL-ALLDAY: 1
X-MICROSOFT-CDO-ALLDAYEVENT: TRUE

END:VEVENT
END:VCALENDAR